BEGIN:VCALENDAR
VERSION:2.0
PRODID:-//swhealthcare.net//NONSGML kigkonsult.se iCalcreator 2.30.10//
CALSCALE:GREGORIAN
METHOD:PUBLISH
UID:46943f4b-6a65-467c-9143-d168731d37ad
X-WR-CALDESC:Dr. Arnold\, Obstetrics/Gynecology will be at Southwest Medica
 l Clinic to see patients on Tuesday\, April 8. Call 523-3226 to make an ap
 pointment.
X-WR-RELCALID:b83ad3c63baf6d76725fd9923bb3998c
X-WR-TIMEZONE:America/Chicago
BEGIN:VTIMEZONE
TZID:America/Chicago
BEGIN:STANDARD
TZNAME:CST
DTSTART:20131103T020000
TZOFFSETFROM:-0500
TZOFFSETTO:-0600
RDATE:20141102T020000
END:STANDARD
BEGIN:DAYLIGHT
TZNAME:CDT
DTSTART:20140309T020000
TZOFFSETFROM:-0600
TZOFFSETTO:-0500
RDATE:20150308T020000
END:DAYLIGHT
END:VTIMEZONE
BEGIN:VEVENT
UID:fd1b22a3-4076-4351-9540-23e58255eb3f
DTSTAMP:20260424T093032Z
DESCRIPTION:Dr. Arnold\, Obstetrics/Gynecology will be at Southwest Medical
  Clinic to see patients on Tuesday\, April 8. Call 523-3226 to make an app
 ointment.
DTSTART;TZID=America/Chicago:20140408T000000
DTEND;TZID=America/Chicago:20140408T225900
LOCATION:
SUMMARY:Dr. Tomas Arnold\, OB/GYN
END:VEVENT
END:VCALENDAR
