BEGIN:VCALENDAR
VERSION:2.0
PRODID:-//swhealthcare.net//NONSGML kigkonsult.se iCalcreator 2.30.10//
CALSCALE:GREGORIAN
METHOD:PUBLISH
UID:b2dc346a-eb17-42ce-a7ac-19db10d2f8c4
X-WR-CALDESC:Residents\, Patients & Staff will be celebrating National Hosp
 ital and Nursing Home Week!\n\nThis years theme is 'Living the Aloha Spiri
 t'!\n\nSome of the fun things we will be doing is Itialian Soda's\, Bingo 
 & 10 minute messages!
X-WR-RELCALID:738387d5362a8f233a2aae41b5557c4d
X-WR-TIMEZONE:America/Chicago
BEGIN:VTIMEZONE
TZID:America/Chicago
BEGIN:STANDARD
TZNAME:CST
DTSTART:20131103T020000
TZOFFSETFROM:-0500
TZOFFSETTO:-0600
RDATE:20141102T020000
RDATE:20151101T020000
END:STANDARD
BEGIN:DAYLIGHT
TZNAME:CDT
DTSTART:20140309T020000
TZOFFSETFROM:-0600
TZOFFSETTO:-0500
RDATE:20150308T020000
END:DAYLIGHT
END:VTIMEZONE
BEGIN:VEVENT
UID:a9bc45e2-c373-4f64-bdaa-6dbc954dbc90
DTSTAMP:20260424T080342Z
DESCRIPTION:Residents\, Patients & Staff will be celebrating National Hospi
 tal and Nursing Home Week!\n\nThis years theme is 'Living the Aloha Spirit
 '!\n\nSome of the fun things we will be doing is Itialian Soda's\, Bingo &
  10 minute messages!
DTSTART;TZID=America/Chicago:20140511T000000
DTEND;TZID=America/Chicago:20140517T225900
LOCATION:
SUMMARY:National Hospital and Nursing Home Week
END:VEVENT
END:VCALENDAR
