BEGIN:VCALENDAR
VERSION:2.0
PRODID:-//swhealthcare.net//NONSGML kigkonsult.se iCalcreator 2.30.10//
CALSCALE:GREGORIAN
METHOD:PUBLISH
UID:29a802d1-76a4-491e-adbf-57b350753eed
X-WR-CALDESC:Southwest Healthcare Services would like to thank our Ambulanc
 e Squad and all our volunteers.  We could not do it without you!\n\nBack r
 ow left to right:  Karen Salter\, Mariah Slagle\n2nd Row left to right: Be
 nji Schaaf\, Lindsey Schaaf\, Wendy Stuber\, Angie Eberle\, Danyel Titus\,
  Josh Buchmann\nFront row left to right: April Eagon\, Darrell West\, Jess
  West\, Jody Stafford\, Jenn Hestekin\n\nNot Pictured:  Kim Norton\, Steve
 n Wright\, Lisa Knopp\, Scott Lardy\, Ryan Shear\, Barry Mason\, Tony Parr
 a\, SuEllen Ruvalcaba\, Nathan Mcgee\, Amy Jimenez\, Mattie Mcgee\, Lynell
 e Jacobson\, Suzan Hanson\n
X-WR-RELCALID:c1e7083ce8632d2bf12fb9f713cea9d9
X-WR-TIMEZONE:America/Chicago
BEGIN:VTIMEZONE
TZID:America/Chicago
BEGIN:STANDARD
TZNAME:CST
DTSTART:20131103T020000
TZOFFSETFROM:-0500
TZOFFSETTO:-0600
RDATE:20141102T020000
RDATE:20151101T020000
END:STANDARD
BEGIN:DAYLIGHT
TZNAME:CDT
DTSTART:20140309T020000
TZOFFSETFROM:-0600
TZOFFSETTO:-0500
RDATE:20150308T020000
END:DAYLIGHT
END:VTIMEZONE
BEGIN:VEVENT
UID:cf9f2a21-7aca-4752-9944-c6837c992c88
DTSTAMP:20260424T075451Z
DESCRIPTION:Southwest Healthcare Services would like to thank our Ambulance
  Squad and all our volunteers.  We could not do it without you!\n\nBack ro
 w left to right:  Karen Salter\, Mariah Slagle\n2nd Row left to right: Ben
 ji Schaaf\, Lindsey Schaaf\, Wendy Stuber\, Angie Eberle\, Danyel Titus\, 
 Josh Buchmann\nFront row left to right: April Eagon\, Darrell West\, Jess 
 West\, Jody Stafford\, Jenn Hestekin\n\nNot Pictured:  Kim Norton\, Steven
  Wright\, Lisa Knopp\, Scott Lardy\, Ryan Shear\, Barry Mason\, Tony Parra
 \, SuEllen Ruvalcaba\, Nathan Mcgee\, Amy Jimenez\, Mattie Mcgee\, Lynelle
  Jacobson\, Suzan Hanson\n
DTSTART;TZID=America/Chicago:20140518T000000
DTEND;TZID=America/Chicago:20140524T225900
LOCATION:
SUMMARY:EMS Week
END:VEVENT
END:VCALENDAR
