BEGIN:VCALENDAR
VERSION:2.0
PRODID:-//swhealthcare.net//NONSGML kigkonsult.se iCalcreator 2.30.10//
CALSCALE:GREGORIAN
METHOD:PUBLISH
UID:4b08bfec-3c99-4c26-b20a-5bf48be47a1e
X-WR-CALDESC:Dr. Mahr will be here Thursday\, June 12. Please call Southwes
 t Medical Clinic with any questions 701-523-3226. Dr. Nicholas Mahr is an 
 interventional cardiologist at the St. Alexius heart & Lung Clinic. After 
 receiving his medical degree from St. George's University in St. George\, 
 Grenada\, Dr. Mahr finished a residency in internal medicine at Hackensack
  Medical Center\, Hackensack\, N.J. He completed a fellowship in critical 
 care at Mount Sinai Medical Center\, New York\, N.Y.\, and a fellowship in
  cardiology at Mount Sinai Medical Center of Greater Miami\, Miami Beach\,
  Fla. In addition\, he completed fellowships in noninvasive cardiology and
  interventional cardiology at Hartford Hospital\, Hartford\, Conn. Dr. Mah
 r is board certified in internal medicine by the American Board of Interna
 l Medicine and board certified in nuclear cardiology by the American Socie
 ty of Nuclear Cardiology. He is board eligible in general and intervention
 al cardiology as well as critical care medicine. Dr. Mahr is a member of t
 he American College of Cardiology\, American Society of Nuclear Cardiology
 \, American College of Physicians Society of Critical Care Medicine and Am
 erican Society of Echocardiography.
X-WR-RELCALID:14b5b5aa1b455851b09a518f896fe4a7
X-WR-TIMEZONE:America/Chicago
BEGIN:VTIMEZONE
TZID:America/Chicago
BEGIN:STANDARD
TZNAME:CST
DTSTART:20131103T020000
TZOFFSETFROM:-0500
TZOFFSETTO:-0600
RDATE:20141102T020000
RDATE:20151101T020000
END:STANDARD
BEGIN:DAYLIGHT
TZNAME:CDT
DTSTART:20140309T020000
TZOFFSETFROM:-0600
TZOFFSETTO:-0500
RDATE:20150308T020000
END:DAYLIGHT
END:VTIMEZONE
BEGIN:VEVENT
UID:8ec50840-a38b-4745-86ed-3182e6f220b5
DTSTAMP:20260424T065305Z
DESCRIPTION:Dr. Mahr will be here Thursday\, June 12. Please call Southwest
  Medical Clinic with any questions 701-523-3226. Dr. Nicholas Mahr is an i
 nterventional cardiologist at the St. Alexius heart & Lung Clinic. After r
 eceiving his medical degree from St. George's University in St. George\, G
 renada\, Dr. Mahr finished a residency in internal medicine at Hackensack 
 Medical Center\, Hackensack\, N.J. He completed a fellowship in critical c
 are at Mount Sinai Medical Center\, New York\, N.Y.\, and a fellowship in 
 cardiology at Mount Sinai Medical Center of Greater Miami\, Miami Beach\, 
 Fla. In addition\, he completed fellowships in noninvasive cardiology and 
 interventional cardiology at Hartford Hospital\, Hartford\, Conn. Dr. Mahr
  is board certified in internal medicine by the American Board of Internal
  Medicine and board certified in nuclear cardiology by the American Societ
 y of Nuclear Cardiology. He is board eligible in general and interventiona
 l cardiology as well as critical care medicine. Dr. Mahr is a member of th
 e American College of Cardiology\, American Society of Nuclear Cardiology\
 , American College of Physicians Society of Critical Care Medicine and Ame
 rican Society of Echocardiography.
DTSTART;TZID=America/Chicago:20140612T000000
DTEND;TZID=America/Chicago:20140612T225900
LOCATION:Southwest Medical Clinic
SUMMARY:Nicholas Mahr M.D. Cardologist will be in Bowman
END:VEVENT
END:VCALENDAR
