BEGIN:VCALENDAR
VERSION:2.0
PRODID:-//swhealthcare.net//NONSGML kigkonsult.se iCalcreator 2.30.10//
CALSCALE:GREGORIAN
METHOD:PUBLISH
UID:c6d51810-df4d-49b9-adc9-d43931be4a30
X-WR-CALDESC:Dr. Amy Oska\, Pediatrics from Sanford - Dickinson Clinic will
  be at Southwest Medical Clinic to see patients on Friday\, June 13\, 2014
 . Call 701-456-6000 to make an appointment.
X-WR-RELCALID:dd007082a79ebd5f9ae0c1aa3b77732f
X-WR-TIMEZONE:America/Chicago
BEGIN:VTIMEZONE
TZID:America/Chicago
BEGIN:STANDARD
TZNAME:CST
DTSTART:20131103T020000
TZOFFSETFROM:-0500
TZOFFSETTO:-0600
RDATE:20141102T020000
RDATE:20151101T020000
END:STANDARD
BEGIN:DAYLIGHT
TZNAME:CDT
DTSTART:20140309T020000
TZOFFSETFROM:-0600
TZOFFSETTO:-0500
RDATE:20150308T020000
END:DAYLIGHT
END:VTIMEZONE
BEGIN:VEVENT
UID:3a99b0e6-78f3-4d05-b219-4ec790ff3db4
DTSTAMP:20260424T064101Z
DESCRIPTION:Dr. Amy Oska\, Pediatrics from Sanford - Dickinson Clinic will 
 be at Southwest Medical Clinic to see patients on Friday\, June 13\, 2014.
  Call 701-456-6000 to make an appointment.
DTSTART;TZID=America/Chicago:20140613T000000
DTEND;TZID=America/Chicago:20140613T235900
LOCATION:
SUMMARY:Dr. Amy Oska\, Pediatrics in Bowman
END:VEVENT
END:VCALENDAR
