BEGIN:VCALENDAR
VERSION:2.0
PRODID:-//swhealthcare.net//NONSGML kigkonsult.se iCalcreator 2.30.10//
CALSCALE:GREGORIAN
METHOD:PUBLISH
UID:07b2ba42-0697-45e1-bb2e-c04b6ac8d540
X-WR-CALDESC:Southwest Healthcare Services is providing free breast exams a
 nd a reduced rate on mammograms with an order from any medical provider st
 arting June 9 through June 27.
X-WR-RELCALID:c992a31b4e8b5a22731f4f129c17cd20
X-WR-TIMEZONE:America/Chicago
BEGIN:VTIMEZONE
TZID:America/Chicago
BEGIN:STANDARD
TZNAME:CST
DTSTART:20131103T020000
TZOFFSETFROM:-0500
TZOFFSETTO:-0600
RDATE:20141102T020000
RDATE:20151101T020000
END:STANDARD
BEGIN:DAYLIGHT
TZNAME:CDT
DTSTART:20140309T020000
TZOFFSETFROM:-0600
TZOFFSETTO:-0500
RDATE:20150308T020000
END:DAYLIGHT
END:VTIMEZONE
BEGIN:VEVENT
UID:c8c2bfaf-1c0f-404a-9703-854c6fdc6b43
DTSTAMP:20260424T065457Z
DESCRIPTION:Southwest Healthcare Services is providing free breast exams an
 d a reduced rate on mammograms with an order from any medical provider sta
 rting June 9 through June 27.
DTSTART;TZID=America/Chicago:20140627T000000
DTEND;TZID=America/Chicago:20140627T225900
LOCATION:Southwest Medical Clinic
SUMMARY:Recieve a Free Breast Exam & Reduced Rate Mammogram.
END:VEVENT
END:VCALENDAR
