BEGIN:VCALENDAR
VERSION:2.0
PRODID:-//swhealthcare.net//NONSGML kigkonsult.se iCalcreator 2.30.10//
CALSCALE:GREGORIAN
METHOD:PUBLISH
UID:c6846a0c-ed32-4c47-9c34-75da90c6a5d8
X-WR-CALDESC:Southwest Healthcare Services will be offering $20 sport physi
 cals all of July and August.
X-WR-RELCALID:9d5f30322eb47db53b85abece83ef0c7
X-WR-TIMEZONE:America/Chicago
BEGIN:VTIMEZONE
TZID:America/Chicago
BEGIN:STANDARD
TZNAME:CST
DTSTART:20131103T020000
TZOFFSETFROM:-0500
TZOFFSETTO:-0600
RDATE:20141102T020000
RDATE:20151101T020000
END:STANDARD
BEGIN:DAYLIGHT
TZNAME:CDT
DTSTART:20140309T020000
TZOFFSETFROM:-0600
TZOFFSETTO:-0500
RDATE:20150308T020000
END:DAYLIGHT
END:VTIMEZONE
BEGIN:VEVENT
UID:8ed1d181-6afa-4232-837b-3538f285851c
DTSTAMP:20260424T052902Z
DESCRIPTION:Southwest Healthcare Services will be offering $20 sport physic
 als all of July and August.
DTSTART;TZID=America/Chicago:20140701T000000
DTEND;TZID=America/Chicago:20140701T235900
LOCATION:Southwest Medical Clinic
SUMMARY:Sports Physicals Special July & August
END:VEVENT
END:VCALENDAR
