BEGIN:VCALENDAR
VERSION:2.0
PRODID:-//swhealthcare.net//NONSGML kigkonsult.se iCalcreator 2.30.10//
CALSCALE:GREGORIAN
METHOD:PUBLISH
UID:662443d3-e6ac-4a22-80a3-1c9f9f891a22
X-WR-CALDESC:Southwest Medical Clinic will be closed for the Fourth of July
 !  Have a fun filled safe weekend!
X-WR-RELCALID:37846a00f47dbf101033250205db45b4
X-WR-TIMEZONE:America/Chicago
BEGIN:VTIMEZONE
TZID:America/Chicago
BEGIN:STANDARD
TZNAME:CST
DTSTART:20131103T020000
TZOFFSETFROM:-0500
TZOFFSETTO:-0600
RDATE:20141102T020000
RDATE:20151101T020000
END:STANDARD
BEGIN:DAYLIGHT
TZNAME:CDT
DTSTART:20140309T020000
TZOFFSETFROM:-0600
TZOFFSETTO:-0500
RDATE:20150308T020000
END:DAYLIGHT
END:VTIMEZONE
BEGIN:VEVENT
UID:587c3f51-8570-442e-aeb8-2c6cfdd28301
DTSTAMP:20260424T053348Z
DESCRIPTION:Southwest Medical Clinic will be closed for the Fourth of July!
   Have a fun filled safe weekend!
DTSTART;TZID=America/Chicago:20140704T000000
DTEND;TZID=America/Chicago:20140704T235900
LOCATION:Southwest Medical Clinic
SUMMARY:Southwest Medical Clinic Closed
END:VEVENT
END:VCALENDAR
