BEGIN:VCALENDAR
VERSION:2.0
PRODID:-//swhealthcare.net//NONSGML kigkonsult.se iCalcreator 2.30.10//
CALSCALE:GREGORIAN
METHOD:PUBLISH
UID:b779d6a7-1c1c-4959-962a-830e6db147bf
X-WR-CALDESC:Dr. Arnold\, Obstetrics/Gynecology will be at Southwest Medica
 l Clinic to see patients on Wednesday\, June 18. Call 523-3226 to make an 
 appointment.
X-WR-RELCALID:7fa65b2a8883d1a553aafb57be8e39b5
X-WR-TIMEZONE:America/Chicago
BEGIN:VTIMEZONE
TZID:America/Chicago
BEGIN:STANDARD
TZNAME:CST
DTSTART:20131103T020000
TZOFFSETFROM:-0500
TZOFFSETTO:-0600
RDATE:20141102T020000
RDATE:20151101T020000
END:STANDARD
BEGIN:DAYLIGHT
TZNAME:CDT
DTSTART:20140309T020000
TZOFFSETFROM:-0600
TZOFFSETTO:-0500
RDATE:20150308T020000
END:DAYLIGHT
END:VTIMEZONE
BEGIN:VEVENT
UID:ff0032dc-9c17-443a-96a4-163037a65863
DTSTAMP:20260424T052314Z
DESCRIPTION:Dr. Arnold\, Obstetrics/Gynecology will be at Southwest Medical
  Clinic to see patients on Wednesday\, June 18. Call 523-3226 to make an a
 ppointment.
DTSTART;TZID=America/Chicago:20140709T000000
DTEND;TZID=America/Chicago:20140709T225900
LOCATION:Southwest Medical Clinic
SUMMARY:Dr. Arnold\, OBGYN in Bowman
END:VEVENT
END:VCALENDAR
