BEGIN:VCALENDAR
VERSION:2.0
PRODID:-//swhealthcare.net//NONSGML kigkonsult.se iCalcreator 2.30.10//
CALSCALE:GREGORIAN
METHOD:PUBLISH
UID:54a4d6bc-f4c6-4e10-9856-78bff740ec65
X-WR-CALDESC:Eligible applicants must have successfully completed all requi
 rements for at least their freshman year of college. The applicant must ha
 ve received written notification of acceptance into their healthcare relat
 ed field of study.  The Sunrise Foundation will accept applications from s
 tudents originally from Bowman County\, Slope County\, Harding County\, an
 d western Adams County.
X-WR-RELCALID:d7eb19b66775042113b5a6ea6c5a7c4c
X-WR-TIMEZONE:America/Chicago
BEGIN:VTIMEZONE
TZID:America/Chicago
BEGIN:STANDARD
TZNAME:CST
DTSTART:20131103T020000
TZOFFSETFROM:-0500
TZOFFSETTO:-0600
RDATE:20141102T020000
RDATE:20151101T020000
END:STANDARD
BEGIN:DAYLIGHT
TZNAME:CDT
DTSTART:20140309T020000
TZOFFSETFROM:-0600
TZOFFSETTO:-0500
RDATE:20150308T020000
END:DAYLIGHT
END:VTIMEZONE
BEGIN:VEVENT
UID:4d2b5812-b0ea-42e6-a2da-3ed83bb99f01
DTSTAMP:20260424T052320Z
DESCRIPTION:Eligible applicants must have successfully completed all requir
 ements for at least their freshman year of college. The applicant must hav
 e received written notification of acceptance into their healthcare relate
 d field of study.  The Sunrise Foundation will accept applications from st
 udents originally from Bowman County\, Slope County\, Harding County\, and
  western Adams County.
DTSTART;TZID=America/Chicago:20140718T000000
DTEND;TZID=America/Chicago:20140718T235900
LOCATION:
SUMMARY:Sunrise Foundation Scholarship Application Due
END:VEVENT
END:VCALENDAR
