BEGIN:VCALENDAR
VERSION:2.0
PRODID:-//swhealthcare.net//NONSGML kigkonsult.se iCalcreator 2.30.10//
CALSCALE:GREGORIAN
METHOD:PUBLISH
UID:1e5f50c6-6cda-4064-89fd-c32a956010cf
X-WR-CALDESC:Southwest Healthcare Services will be offering free skin cance
 r screening on July 24\, 2014
X-WR-RELCALID:557635635abe69a09388e14325c59346
X-WR-TIMEZONE:America/Chicago
BEGIN:VTIMEZONE
TZID:America/Chicago
BEGIN:STANDARD
TZNAME:CST
DTSTART:20131103T020000
TZOFFSETFROM:-0500
TZOFFSETTO:-0600
RDATE:20141102T020000
RDATE:20151101T020000
END:STANDARD
BEGIN:DAYLIGHT
TZNAME:CDT
DTSTART:20140309T020000
TZOFFSETFROM:-0600
TZOFFSETTO:-0500
RDATE:20150308T020000
END:DAYLIGHT
END:VTIMEZONE
BEGIN:VEVENT
UID:cd36163b-65e3-43b6-a31d-9fddd1916811
DTSTAMP:20260424T052856Z
DESCRIPTION:Southwest Healthcare Services will be offering free skin cancer
  screening on July 24\, 2014
DTSTART;TZID=America/Chicago:20140724T000000
DTEND;TZID=America/Chicago:20140724T225900
LOCATION:
SUMMARY:Free Skin Cancer Screen
END:VEVENT
END:VCALENDAR
