BEGIN:VCALENDAR
VERSION:2.0
PRODID:-//swhealthcare.net//NONSGML kigkonsult.se iCalcreator 2.30.10//
CALSCALE:GREGORIAN
METHOD:PUBLISH
UID:af1b9a60-b07c-429d-9bab-9d12dd741554
X-WR-CALDESC:Southwest Healthcare Services will be offering $20 sport physi
 cals all of August.
X-WR-RELCALID:d1ca26a057fc0a40be804bace776108f
X-WR-TIMEZONE:America/Chicago
BEGIN:VTIMEZONE
TZID:America/Chicago
BEGIN:STANDARD
TZNAME:CST
DTSTART:20131103T020000
TZOFFSETFROM:-0500
TZOFFSETTO:-0600
RDATE:20141102T020000
RDATE:20151101T020000
END:STANDARD
BEGIN:DAYLIGHT
TZNAME:CDT
DTSTART:20140309T020000
TZOFFSETFROM:-0600
TZOFFSETTO:-0500
RDATE:20150308T020000
END:DAYLIGHT
END:VTIMEZONE
BEGIN:VEVENT
UID:03680268-5c25-4280-823c-9c9c44c4cde2
DTSTAMP:20260424T040857Z
DESCRIPTION:Southwest Healthcare Services will be offering $20 sport physic
 als all of August.
DTSTART;TZID=America/Chicago:20140801T000000
DTEND;TZID=America/Chicago:20140801T235900
LOCATION:Southwest Medical Clinic
SUMMARY:Sports Physicals Special all of August
END:VEVENT
END:VCALENDAR
