BEGIN:VCALENDAR
VERSION:2.0
PRODID:-//swhealthcare.net//NONSGML kigkonsult.se iCalcreator 2.30.10//
CALSCALE:GREGORIAN
METHOD:PUBLISH
UID:d38856af-7198-4040-92dd-0b10433854e4
X-WR-CALDESC:Have a great weekend!
X-WR-RELCALID:adc4f8d53c99deab2039e0d682351235
X-WR-TIMEZONE:America/Chicago
BEGIN:VTIMEZONE
TZID:America/Chicago
BEGIN:STANDARD
TZNAME:CST
DTSTART:20131103T020000
TZOFFSETFROM:-0500
TZOFFSETTO:-0600
RDATE:20141102T020000
RDATE:20151101T020000
END:STANDARD
BEGIN:DAYLIGHT
TZNAME:CDT
DTSTART:20140309T020000
TZOFFSETFROM:-0600
TZOFFSETTO:-0500
RDATE:20150308T020000
END:DAYLIGHT
END:VTIMEZONE
BEGIN:VEVENT
UID:94d62d57-c0f2-44b3-b688-44b55361d6f7
DTSTAMP:20260424T025506Z
DESCRIPTION:Have a great weekend!
DTSTART;TZID=America/Chicago:20140901T000000
DTEND;TZID=America/Chicago:20140901T235900
LOCATION:
SUMMARY:Clinic Closed for Labor Day
END:VEVENT
END:VCALENDAR
