BEGIN:VCALENDAR
VERSION:2.0
PRODID:-//swhealthcare.net//NONSGML kigkonsult.se iCalcreator 2.30.10//
CALSCALE:GREGORIAN
METHOD:PUBLISH
UID:520c3d88-b012-49eb-8feb-2d690cdb9127
X-WR-CALDESC:We really appreciate all our hard working Maintenance and Hous
 ekeeping employees! Thank you!
X-WR-RELCALID:9a6ea50729feac3d7e74171d18dc946e
X-WR-TIMEZONE:America/Chicago
BEGIN:VTIMEZONE
TZID:America/Chicago
BEGIN:STANDARD
TZNAME:CST
DTSTART:20131103T020000
TZOFFSETFROM:-0500
TZOFFSETTO:-0600
RDATE:20141102T020000
RDATE:20151101T020000
END:STANDARD
BEGIN:DAYLIGHT
TZNAME:CDT
DTSTART:20140309T020000
TZOFFSETFROM:-0600
TZOFFSETTO:-0500
RDATE:20150308T020000
END:DAYLIGHT
END:VTIMEZONE
BEGIN:VEVENT
UID:a1032e24-b6da-4a66-aba5-b590480f0c14
DTSTAMP:20260424T030357Z
DESCRIPTION:We really appreciate all our hard working Maintenance and House
 keeping employees! Thank you!
DTSTART;TZID=America/Chicago:20140908T000000
DTEND;TZID=America/Chicago:20140908T235900
LOCATION:
SUMMARY:National Healthcare Environmental Service Week
END:VEVENT
END:VCALENDAR
