BEGIN:VCALENDAR
VERSION:2.0
PRODID:-//swhealthcare.net//NONSGML kigkonsult.se iCalcreator 2.30.10//
CALSCALE:GREGORIAN
METHOD:PUBLISH
UID:cd51817d-6699-413b-9dfb-aee1bbcc9300
X-WR-CALDESC:
X-WR-RELCALID:f5f66c477e116db9dc319a5075805149
X-WR-TIMEZONE:America/Chicago
BEGIN:VTIMEZONE
TZID:America/Chicago
BEGIN:STANDARD
TZNAME:CST
DTSTART:20131103T020000
TZOFFSETFROM:-0500
TZOFFSETTO:-0600
RDATE:20141102T020000
RDATE:20151101T020000
END:STANDARD
BEGIN:DAYLIGHT
TZNAME:CDT
DTSTART:20140309T020000
TZOFFSETFROM:-0600
TZOFFSETTO:-0500
RDATE:20150308T020000
RDATE:20160313T020000
END:DAYLIGHT
END:VTIMEZONE
BEGIN:VEVENT
UID:15f40857-b23b-4a51-8338-7c142929e7cc
DTSTAMP:20260424T013743Z
DESCRIPTION:
DTSTART;TZID=America/Chicago:20141001T000000
DTEND;TZID=America/Chicago:20141001T005900
LOCATION:
SUMMARY:Schedule your appointment for a Free Breast Exam and a reduced rate
  mammogram!
END:VEVENT
END:VCALENDAR
