BEGIN:VCALENDAR
VERSION:2.0
PRODID:-//swhealthcare.net//NONSGML kigkonsult.se iCalcreator 2.30.10//
CALSCALE:GREGORIAN
METHOD:PUBLISH
UID:83cfc9c3-9d62-4c4d-acd1-0f06366c761c
X-WR-CALDESC:Southwest Healthcare Services will be offering two Tuesday eve
 ning clinics\,   October 2nd and 14th from 3:30 pm to 7:00 pm. These two e
 venings we will be offering:\n     Flu Vaccination Shots or Nasal Spray (n
 o appointment needed)\n     Free Breast Exams with Dr. Tomboilian\, Patric
 ia Gilbert\, PA-C or Chris Peterson\, FNP\n     Screening Mammograms*\n   
   DEXA Bone Density Screening*\n	   *Patients with any doctor’s orders for 
 these screenings can also make appointments.\n\nSouthwest Healthcare Servi
 ces will also be offering a reduced rate on mammograms and a free breast e
 xam for the entire month of October. To make an appointment\, call Southwe
 st Medical Clinic at (701) 523-3226.
X-WR-RELCALID:7130f9853dd4b90f8ec103a9be783644
X-WR-TIMEZONE:America/Chicago
BEGIN:VTIMEZONE
TZID:America/Chicago
BEGIN:STANDARD
TZNAME:CST
DTSTART:20131103T020000
TZOFFSETFROM:-0500
TZOFFSETTO:-0600
RDATE:20141102T020000
RDATE:20151101T020000
END:STANDARD
BEGIN:DAYLIGHT
TZNAME:CDT
DTSTART:20140309T020000
TZOFFSETFROM:-0600
TZOFFSETTO:-0500
RDATE:20150308T020000
RDATE:20160313T020000
END:DAYLIGHT
END:VTIMEZONE
BEGIN:VEVENT
UID:90837f06-532c-48b8-ba55-fe93f147a857
DTSTAMP:20260424T013340Z
DESCRIPTION:Southwest Healthcare Services will be offering two Tuesday even
 ing clinics\,   October 2nd and 14th from 3:30 pm to 7:00 pm. These two ev
 enings we will be offering:\n     Flu Vaccination Shots or Nasal Spray (no
  appointment needed)\n     Free Breast Exams with Dr. Tomboilian\, Patrici
 a Gilbert\, PA-C or Chris Peterson\, FNP\n     Screening Mammograms*\n    
  DEXA Bone Density Screening*\n	   *Patients with any doctor’s orders for t
 hese screenings can also make appointments.\n\nSouthwest Healthcare Servic
 es will also be offering a reduced rate on mammograms and a free breast ex
 am for the entire month of October. To make an appointment\, call Southwes
 t Medical Clinic at (701) 523-3226.
DTSTART;TZID=America/Chicago:20141014T153000
DTEND;TZID=America/Chicago:20141014T200000
LOCATION:Southwest Medical Clinic
SUMMARY:Flu and Mammo Evening Clinic
END:VEVENT
END:VCALENDAR
