BEGIN:VCALENDAR
VERSION:2.0
PRODID:-//swhealthcare.net//NONSGML kigkonsult.se iCalcreator 2.30.10//
CALSCALE:GREGORIAN
METHOD:PUBLISH
UID:26566bb2-bf57-46fe-8cfe-2e951362118a
X-WR-CALDESC:Dr. Lanchbury will be seeing patients at our Dickinson Locatio
 n. \n\nDickinson Clinic\nTherapy Solutions\n448 21st Street West\, Suite D
 1\nDickinson\, ND 58601
X-WR-RELCALID:1ce7ced461b25f4fc1c9314ea607547e
X-WR-TIMEZONE:America/Chicago
BEGIN:VTIMEZONE
TZID:America/Chicago
BEGIN:STANDARD
TZNAME:CST
DTSTART:20141102T020000
TZOFFSETFROM:-0500
TZOFFSETTO:-0600
RDATE:20151101T020000
END:STANDARD
BEGIN:DAYLIGHT
TZNAME:CDT
DTSTART:20140309T020000
TZOFFSETFROM:-0600
TZOFFSETTO:-0500
RDATE:20150308T020000
RDATE:20160313T020000
END:DAYLIGHT
END:VTIMEZONE
BEGIN:VEVENT
UID:8a665dbb-316d-4557-92cc-8d2d51f056bf
DTSTAMP:20260424T000322Z
DESCRIPTION:Dr. Lanchbury will be seeing patients at our Dickinson Location
 . \n\nDickinson Clinic\nTherapy Solutions\n448 21st Street West\, Suite D1
 \nDickinson\, ND 58601
DTSTART;TZID=America/Chicago:20141125T000000
DTEND;TZID=America/Chicago:20141125T015900
LOCATION:
SUMMARY:Dr. Lanchbury in Dickinson
END:VEVENT
END:VCALENDAR
