BEGIN:VCALENDAR
VERSION:2.0
PRODID:-//swhealthcare.net//NONSGML kigkonsult.se iCalcreator 2.30.10//
CALSCALE:GREGORIAN
METHOD:PUBLISH
UID:5c0649e9-bd20-4d44-9076-63206ce6c6bd
X-WR-CALDESC:Clinic Closed for Thanksgiving.
X-WR-RELCALID:c2460bc8ee1f944ee9c7e8d0e192259c
X-WR-TIMEZONE:America/Chicago
BEGIN:VTIMEZONE
TZID:America/Chicago
BEGIN:STANDARD
TZNAME:CST
DTSTART:20141102T020000
TZOFFSETFROM:-0500
TZOFFSETTO:-0600
RDATE:20151101T020000
END:STANDARD
BEGIN:DAYLIGHT
TZNAME:CDT
DTSTART:20140309T020000
TZOFFSETFROM:-0600
TZOFFSETTO:-0500
RDATE:20150308T020000
RDATE:20160313T020000
END:DAYLIGHT
END:VTIMEZONE
BEGIN:VEVENT
UID:b2a2020c-3b2f-4d37-bf4f-f7428d21f550
DTSTAMP:20260424T000155Z
DESCRIPTION:Clinic Closed for Thanksgiving.
DTSTART;TZID=America/Chicago:20141127T000000
DTEND;TZID=America/Chicago:20141127T235900
LOCATION:
SUMMARY:Clinic Closed
END:VEVENT
END:VCALENDAR
