BEGIN:VCALENDAR
VERSION:2.0
PRODID:-//swhealthcare.net//NONSGML kigkonsult.se iCalcreator 2.30.10//
CALSCALE:GREGORIAN
METHOD:PUBLISH
UID:a094ef67-26bf-4864-9b4e-d9113c8a032f
X-WR-CALDESC:Give thanks for all that you have!
X-WR-RELCALID:6b3b59184d484ba74f25cf0e32c700e0
X-WR-TIMEZONE:America/Chicago
BEGIN:VTIMEZONE
TZID:America/Chicago
BEGIN:STANDARD
TZNAME:CST
DTSTART:20141102T020000
TZOFFSETFROM:-0500
TZOFFSETTO:-0600
RDATE:20151101T020000
END:STANDARD
BEGIN:DAYLIGHT
TZNAME:CDT
DTSTART:20140309T020000
TZOFFSETFROM:-0600
TZOFFSETTO:-0500
RDATE:20150308T020000
RDATE:20160313T020000
END:DAYLIGHT
END:VTIMEZONE
BEGIN:VEVENT
UID:ecc9d4b9-6f44-4e4b-83e4-7079c89b9355
DTSTAMP:20260424T000148Z
DESCRIPTION:Give thanks for all that you have!
DTSTART;TZID=America/Chicago:20141127T000000
DTEND;TZID=America/Chicago:20141127T005900
LOCATION:
SUMMARY:Thanksgiving
END:VEVENT
END:VCALENDAR
