BEGIN:VCALENDAR
VERSION:2.0
PRODID:-//swhealthcare.net//NONSGML kigkonsult.se iCalcreator 2.30.10//
CALSCALE:GREGORIAN
METHOD:PUBLISH
UID:b4e4483a-2b4e-4c29-9fe5-379c8862982b
X-WR-CALDESC:Holiday Health Fair\n\n• Free Glucose (Blood Sugar) • Reduced 
 Rate of $25 Lipid Profiles (10-12 hr fast recommended) • Free PSA (Prostat
 e Cancer Screening Blood Test) and Free Colon Cancer Screening Kits • Flu 
 Vaccination available at SWHS Location • Free DRE (Digital Rectal Exam) by
  Appointment*\n\nNo appointment needed!
X-WR-RELCALID:e49bf6336561ade2b8b7de65ae186661
X-WR-TIMEZONE:America/Chicago
BEGIN:VTIMEZONE
TZID:America/Chicago
BEGIN:STANDARD
TZNAME:CST
DTSTART:20141102T020000
TZOFFSETFROM:-0500
TZOFFSETTO:-0600
RDATE:20151101T020000
END:STANDARD
BEGIN:DAYLIGHT
TZNAME:CDT
DTSTART:20140309T020000
TZOFFSETFROM:-0600
TZOFFSETTO:-0500
RDATE:20150308T020000
RDATE:20160313T020000
END:DAYLIGHT
END:VTIMEZONE
BEGIN:VEVENT
UID:cfc0a108-7a62-41a0-90c4-ecd4d2de3c2e
DTSTAMP:20260423T224051Z
DESCRIPTION:Holiday Health Fair\n\n• Free Glucose (Blood Sugar) • Reduced R
 ate of $25 Lipid Profiles (10-12 hr fast recommended) • Free PSA (Prostate
  Cancer Screening Blood Test) and Free Colon Cancer Screening Kits • Flu V
 accination available at SWHS Location • Free DRE (Digital Rectal Exam) by 
 Appointment*\n\nNo appointment needed!
DTSTART;TZID=America/Chicago:20141201T063000
DTEND;TZID=America/Chicago:20141201T093000
LOCATION:Rhame Fire Hall
SUMMARY:Rhame - Holiday Health Fair
END:VEVENT
END:VCALENDAR
