BEGIN:VCALENDAR
VERSION:2.0
PRODID:-//swhealthcare.net//NONSGML kigkonsult.se iCalcreator 2.30.10//
CALSCALE:GREGORIAN
METHOD:PUBLISH
UID:8525184b-3d15-46d5-aa39-4c7fd16e8060
X-WR-CALDESC:Holiday Health Fair\n\n• Free Glucose (Blood Sugar) • Reduced 
 Rate of $25 Lipid Profiles (10-12 hr fast recommended) • Free PSA (Prostat
 e Cancer Screening Blood Test) and Free Colon Cancer Screening Kits • Flu 
 Vaccination available at SWHS Location • Free DRE (Digital Rectal Exam) by
  Appointment*\n\nNo appointment needed!
X-WR-RELCALID:673279b781cae4876cf65d4423993740
X-WR-TIMEZONE:America/Chicago
BEGIN:VTIMEZONE
TZID:America/Chicago
BEGIN:STANDARD
TZNAME:CST
DTSTART:20141102T020000
TZOFFSETFROM:-0500
TZOFFSETTO:-0600
RDATE:20151101T020000
END:STANDARD
BEGIN:DAYLIGHT
TZNAME:CDT
DTSTART:20140309T020000
TZOFFSETFROM:-0600
TZOFFSETTO:-0500
RDATE:20150308T020000
RDATE:20160313T020000
END:DAYLIGHT
END:VTIMEZONE
BEGIN:VEVENT
UID:b35a4258-8999-41eb-a77f-40fffc026f70
DTSTAMP:20260423T223938Z
DESCRIPTION:Holiday Health Fair\n\n• Free Glucose (Blood Sugar) • Reduced R
 ate of $25 Lipid Profiles (10-12 hr fast recommended) • Free PSA (Prostate
  Cancer Screening Blood Test) and Free Colon Cancer Screening Kits • Flu V
 accination available at SWHS Location • Free DRE (Digital Rectal Exam) by 
 Appointment*\n\nNo appointment needed!
DTSTART;TZID=America/Chicago:20141202T073000
DTEND;TZID=America/Chicago:20141202T100000
LOCATION:Blossoms & Brew
SUMMARY:Buffalo\, SD - Holiday Health Fair
END:VEVENT
END:VCALENDAR
