BEGIN:VCALENDAR
VERSION:2.0
PRODID:-//swhealthcare.net//NONSGML kigkonsult.se iCalcreator 2.30.10//
CALSCALE:GREGORIAN
METHOD:PUBLISH
UID:1219423b-42bd-4346-90da-c33baf708510
X-WR-CALDESC:Holiday Health Fair\n\n• Free Glucose (Blood Sugar) • Reduced 
 Rate of $25 Lipid Profiles (10-12 hr fast recommended) • Free PSA (Prostat
 e Cancer Screening Blood Test) and Free Colon Cancer Screening Kits • Flu 
 Vaccination available at SWHS Location • Free DRE (Digital Rectal Exam) by
  Appointment*\n\nNo appointment needed!
X-WR-RELCALID:ca765bfe14bccdc56e3011a9ca4b636a
X-WR-TIMEZONE:America/Chicago
BEGIN:VTIMEZONE
TZID:America/Chicago
BEGIN:STANDARD
TZNAME:CST
DTSTART:20141102T020000
TZOFFSETFROM:-0500
TZOFFSETTO:-0600
RDATE:20151101T020000
END:STANDARD
BEGIN:DAYLIGHT
TZNAME:CDT
DTSTART:20140309T020000
TZOFFSETFROM:-0600
TZOFFSETTO:-0500
RDATE:20150308T020000
RDATE:20160313T020000
END:DAYLIGHT
END:VTIMEZONE
BEGIN:VEVENT
UID:0231823b-99f4-42b2-9999-074c07d1678f
DTSTAMP:20260423T223928Z
DESCRIPTION:Holiday Health Fair\n\n• Free Glucose (Blood Sugar) • Reduced R
 ate of $25 Lipid Profiles (10-12 hr fast recommended) • Free PSA (Prostate
  Cancer Screening Blood Test) and Free Colon Cancer Screening Kits • Flu V
 accination available at SWHS Location • Free DRE (Digital Rectal Exam) by 
 Appointment*\n\nNo appointment needed!
DTSTART;TZID=America/Chicago:20141204T070000
DTEND;TZID=America/Chicago:20141204T110000
LOCATION:Southwest Healthcare Services Ambulance Garage
SUMMARY:Bowman - Holiday Health Fair
END:VEVENT
END:VCALENDAR
