BEGIN:VCALENDAR
VERSION:2.0
PRODID:-//swhealthcare.net//NONSGML kigkonsult.se iCalcreator 2.30.10//
CALSCALE:GREGORIAN
METHOD:PUBLISH
UID:ed81794e-e52e-4530-b042-a565039e38c9
X-WR-CALDESC:Holiday Health Fair\n\n• Free Glucose (Blood Sugar) • Reduced 
 Rate of $25 Lipid Profiles (10-12 hr fast recommended) • Free PSA (Prostat
 e Cancer Screening Blood Test) and Free Colon Cancer Screening Kits • Flu 
 Vaccination available at SWHS Location • Free DRE (Digital Rectal Exam) by
  Appointment*\n\nNo appointment needed!
X-WR-RELCALID:9d4fd2ebab43f51d7ee2eb2ab5bd0700
X-WR-TIMEZONE:America/Chicago
BEGIN:VTIMEZONE
TZID:America/Chicago
BEGIN:STANDARD
TZNAME:CST
DTSTART:20141102T020000
TZOFFSETFROM:-0500
TZOFFSETTO:-0600
RDATE:20151101T020000
END:STANDARD
BEGIN:DAYLIGHT
TZNAME:CDT
DTSTART:20140309T020000
TZOFFSETFROM:-0600
TZOFFSETTO:-0500
RDATE:20150308T020000
RDATE:20160313T020000
END:DAYLIGHT
END:VTIMEZONE
BEGIN:VEVENT
UID:cce966ff-e448-4fef-9465-90777f73bf4d
DTSTAMP:20260423T223949Z
DESCRIPTION:Holiday Health Fair\n\n• Free Glucose (Blood Sugar) • Reduced R
 ate of $25 Lipid Profiles (10-12 hr fast recommended) • Free PSA (Prostate
  Cancer Screening Blood Test) and Free Colon Cancer Screening Kits • Flu V
 accination available at SWHS Location • Free DRE (Digital Rectal Exam) by 
 Appointment*\n\nNo appointment needed!
DTSTART;TZID=America/Chicago:20141205T070000
DTEND;TZID=America/Chicago:20141205T100000
LOCATION:Ladner Lutheran Church
SUMMARY:Ladner\, SD - Holiday Health Fair
END:VEVENT
END:VCALENDAR
