BEGIN:VCALENDAR
VERSION:2.0
PRODID:-//swhealthcare.net//NONSGML kigkonsult.se iCalcreator 2.30.10//
CALSCALE:GREGORIAN
METHOD:PUBLISH
UID:5fe40c82-de08-4b2c-94f8-2f25c14233e2
X-WR-CALDESC:Dr. Derrick Cote will now be seeing patients at Southwest Medi
 cal Clinic in Bowman\, ND. Dr. Cote completed five years of training at th
 e University of Kansas School of Medicine Orthopaedic Residency\, Wichita\
 , Kansas. A native of Turtle Lake\, North Dakota\, Dr. Cote graduated summ
 a cum laude and earned a bachelor’s degree in biology with a minor in chem
 istry at University of North Dakota in 2005. While attending school he vol
 unteered at UND Family Practice Center and worked as a nurse assistant and
  intramural sports official. In 2009 he obtained his medical degree from t
 he University of North Dakota School of Medicine and Health Sciences. Retu
 rning to North Dakota to live and practice is something he has wanted from
  the beginning of his training. Dr. Cote is currently a member of the Amer
 ican College of Surgeons\, American Medical Association and the Multiple S
 clerosis Society.
X-WR-RELCALID:94c98fa16b15406d2d0777031e9bc966
X-WR-TIMEZONE:America/Chicago
BEGIN:VTIMEZONE
TZID:America/Chicago
BEGIN:STANDARD
TZNAME:CST
DTSTART:20141102T020000
TZOFFSETFROM:-0500
TZOFFSETTO:-0600
RDATE:20151101T020000
END:STANDARD
BEGIN:DAYLIGHT
TZNAME:CDT
DTSTART:20140309T020000
TZOFFSETFROM:-0600
TZOFFSETTO:-0500
RDATE:20150308T020000
RDATE:20160313T020000
END:DAYLIGHT
END:VTIMEZONE
BEGIN:VEVENT
UID:6046eb9a-6048-4d6d-a20b-264a1e42f815
DTSTAMP:20260423T223711Z
DESCRIPTION:Dr. Derrick Cote will now be seeing patients at Southwest Medic
 al Clinic in Bowman\, ND. Dr. Cote completed five years of training at the
  University of Kansas School of Medicine Orthopaedic Residency\, Wichita\,
  Kansas. A native of Turtle Lake\, North Dakota\, Dr. Cote graduated summa
  cum laude and earned a bachelor’s degree in biology with a minor in chemi
 stry at University of North Dakota in 2005. While attending school he volu
 nteered at UND Family Practice Center and worked as a nurse assistant and 
 intramural sports official. In 2009 he obtained his medical degree from th
 e University of North Dakota School of Medicine and Health Sciences. Retur
 ning to North Dakota to live and practice is something he has wanted from 
 the beginning of his training. Dr. Cote is currently a member of the Ameri
 can College of Surgeons\, American Medical Association and the Multiple Sc
 lerosis Society.
DTSTART;TZID=America/Chicago:20141217T000000
DTEND;TZID=America/Chicago:20141217T005900
LOCATION:Southwest Medical Clinic
SUMMARY:Dr. Cote\, Orthopaedics in Bowman\, ND
END:VEVENT
END:VCALENDAR
