BEGIN:VCALENDAR
VERSION:2.0
PRODID:-//swhealthcare.net//NONSGML kigkonsult.se iCalcreator 2.30.10//
CALSCALE:GREGORIAN
METHOD:PUBLISH
UID:5ac9b06e-ecca-46c0-9074-2d09f7f580dc
X-WR-CALDESC:Merry Christmas!!!
X-WR-RELCALID:9ed73444c579301fba369f6a965311a8
X-WR-TIMEZONE:America/Chicago
BEGIN:VTIMEZONE
TZID:America/Chicago
BEGIN:STANDARD
TZNAME:CST
DTSTART:20141102T020000
TZOFFSETFROM:-0500
TZOFFSETTO:-0600
RDATE:20151101T020000
END:STANDARD
BEGIN:DAYLIGHT
TZNAME:CDT
DTSTART:20140309T020000
TZOFFSETFROM:-0600
TZOFFSETTO:-0500
RDATE:20150308T020000
RDATE:20160313T020000
END:DAYLIGHT
END:VTIMEZONE
BEGIN:VEVENT
UID:f1628646-e22a-42fa-9c67-8e4752cc598f
DTSTAMP:20260423T223615Z
DESCRIPTION:Merry Christmas!!!
DTSTART;TZID=America/Chicago:20141224T000000
DTEND;TZID=America/Chicago:20141224T005900
LOCATION:Southwest Healthcare Services
SUMMARY:Clinic Closed at Noon
END:VEVENT
END:VCALENDAR
