BEGIN:VCALENDAR
VERSION:2.0
PRODID:-//swhealthcare.net//NONSGML kigkonsult.se iCalcreator 2.30.10//
CALSCALE:GREGORIAN
METHOD:PUBLISH
UID:2f023c28-2ba8-4849-a1f9-611aa0302e85
X-WR-CALDESC:Hope you and your family have a Merry Christmas!
X-WR-RELCALID:0908f35b199aa16acda4adf9f86b2e0f
X-WR-TIMEZONE:America/Chicago
BEGIN:VTIMEZONE
TZID:America/Chicago
BEGIN:STANDARD
TZNAME:CST
DTSTART:20141102T020000
TZOFFSETFROM:-0500
TZOFFSETTO:-0600
RDATE:20151101T020000
END:STANDARD
BEGIN:DAYLIGHT
TZNAME:CDT
DTSTART:20140309T020000
TZOFFSETFROM:-0600
TZOFFSETTO:-0500
RDATE:20150308T020000
RDATE:20160313T020000
END:DAYLIGHT
END:VTIMEZONE
BEGIN:VEVENT
UID:9c5a67a8-be76-4018-92a2-177e4f492030
DTSTAMP:20260423T223518Z
DESCRIPTION:Hope you and your family have a Merry Christmas!
DTSTART;TZID=America/Chicago:20141225T000000
DTEND;TZID=America/Chicago:20141225T235900
LOCATION:
SUMMARY:Merry Christmas!
END:VEVENT
END:VCALENDAR
