BEGIN:VCALENDAR
VERSION:2.0
PRODID:-//swhealthcare.net//NONSGML kigkonsult.se iCalcreator 2.30.10//
CALSCALE:GREGORIAN
METHOD:PUBLISH
UID:869cf029-6a4a-452b-9f45-cad0144cfdc3
X-WR-CALDESC:Happy New Year!
X-WR-RELCALID:9dab94ab9e75fb8c5d4a682944a8c5ac
X-WR-TIMEZONE:America/Chicago
BEGIN:VTIMEZONE
TZID:America/Chicago
BEGIN:STANDARD
TZNAME:CST
DTSTART:20141102T020000
TZOFFSETFROM:-0500
TZOFFSETTO:-0600
RDATE:20151101T020000
END:STANDARD
BEGIN:DAYLIGHT
TZNAME:CDT
DTSTART:20140309T020000
TZOFFSETFROM:-0600
TZOFFSETTO:-0500
RDATE:20150308T020000
RDATE:20160313T020000
END:DAYLIGHT
END:VTIMEZONE
BEGIN:VEVENT
UID:342fa327-7e97-481a-8679-4ed0b053a76f
DTSTAMP:20260423T223610Z
DESCRIPTION:Happy New Year!
DTSTART;TZID=America/Chicago:20141231T000000
DTEND;TZID=America/Chicago:20141231T015900
LOCATION:Southwest Healthcare Services
SUMMARY:Clinic Closed at Noon
END:VEVENT
END:VCALENDAR
