BEGIN:VCALENDAR
VERSION:2.0
PRODID:-//swhealthcare.net//NONSGML kigkonsult.se iCalcreator 2.30.10//
CALSCALE:GREGORIAN
METHOD:PUBLISH
UID:152d6ea6-245e-4ebb-9d61-89da03e480ba
X-WR-CALDESC:Dr. Lanchbury will be seeing patients at our Dickinson Locatio
 n. \n\nDickinson Clinic\nTherapy Solutions\n448 21st Street West\, Suite D
 1\nDickinson\, ND 58601
X-WR-RELCALID:7b25c09242eb43fea6c3a38abb8f2a03
X-WR-TIMEZONE:America/Chicago
BEGIN:VTIMEZONE
TZID:America/Chicago
BEGIN:STANDARD
TZNAME:CST
DTSTART:20141102T020000
TZOFFSETFROM:-0500
TZOFFSETTO:-0600
RDATE:20151101T020000
END:STANDARD
BEGIN:DAYLIGHT
TZNAME:CDT
DTSTART:20140309T020000
TZOFFSETFROM:-0600
TZOFFSETTO:-0500
RDATE:20150308T020000
RDATE:20160313T020000
END:DAYLIGHT
END:VTIMEZONE
BEGIN:VEVENT
UID:201095d4-3a9a-4585-bf01-2156918569e5
DTSTAMP:20260423T194307Z
DESCRIPTION:Dr. Lanchbury will be seeing patients at our Dickinson Location
 . \n\nDickinson Clinic\nTherapy Solutions\n448 21st Street West\, Suite D1
 \nDickinson\, ND 58601
DTSTART;TZID=America/Chicago:20150224T000000
DTEND;TZID=America/Chicago:20150224T035900
LOCATION:
SUMMARY:Dr. Lanchbury in Dickinson
END:VEVENT
END:VCALENDAR
