BEGIN:VCALENDAR
VERSION:2.0
PRODID:-//swhealthcare.net//NONSGML kigkonsult.se iCalcreator 2.30.10//
CALSCALE:GREGORIAN
METHOD:PUBLISH
UID:73e609f0-7862-4292-883f-32937ce7a54e
X-WR-CALDESC:Dr. Derrick Cote will now be seeing patients at Southwest Medi
 cal Clinic in Bowman\, ND. \n\nDr. Cote completed five years of training a
 t the University of Kansas School of Medicine Orthopaedic Residency\, Wich
 ita\, Kansas. A native of Turtle Lake\, North Dakota\, Dr. Cote graduated 
 summa cum laude and earned a bachelor’s degree in biology with a minor in 
 chemistry at University of North Dakota in 2005. While attending school he
  volunteered at UND Family Practice Center and worked as a nurse assistant
  and intramural sports official. In 2009 he obtained his medical degree fr
 om the University of North Dakota School of Medicine and Health Sciences. 
 Returning to North Dakota to live and practice is something he has wanted 
 from the beginning of his training. Dr. Cote is currently a member of the 
 American College of Surgeons\, American Medical Association and the Multip
 le Sclerosis Society.
X-WR-RELCALID:80b346d5851302e8bd4c6bdc26add7f1
X-WR-TIMEZONE:America/Chicago
BEGIN:VTIMEZONE
TZID:America/Chicago
BEGIN:STANDARD
TZNAME:CST
DTSTART:20141102T020000
TZOFFSETFROM:-0500
TZOFFSETTO:-0600
RDATE:20151101T020000
END:STANDARD
BEGIN:DAYLIGHT
TZNAME:CDT
DTSTART:20140309T020000
TZOFFSETFROM:-0600
TZOFFSETTO:-0500
RDATE:20150308T020000
RDATE:20160313T020000
END:DAYLIGHT
END:VTIMEZONE
BEGIN:VEVENT
UID:d4b2465c-3c15-4c88-864f-b0313cebc4a8
DTSTAMP:20260423T194252Z
DESCRIPTION:Dr. Derrick Cote will now be seeing patients at Southwest Medic
 al Clinic in Bowman\, ND. \n\nDr. Cote completed five years of training at
  the University of Kansas School of Medicine Orthopaedic Residency\, Wichi
 ta\, Kansas. A native of Turtle Lake\, North Dakota\, Dr. Cote graduated s
 umma cum laude and earned a bachelor’s degree in biology with a minor in c
 hemistry at University of North Dakota in 2005. While attending school he 
 volunteered at UND Family Practice Center and worked as a nurse assistant 
 and intramural sports official. In 2009 he obtained his medical degree fro
 m the University of North Dakota School of Medicine and Health Sciences. R
 eturning to North Dakota to live and practice is something he has wanted f
 rom the beginning of his training. Dr. Cote is currently a member of the A
 merican College of Surgeons\, American Medical Association and the Multipl
 e Sclerosis Society.
DTSTART;TZID=America/Chicago:20150225T000000
DTEND;TZID=America/Chicago:20150225T025900
LOCATION:Southwest Medical Clinic
SUMMARY:Dr. Cote\, Orthopaedics in Bowman\, ND
END:VEVENT
END:VCALENDAR
