BEGIN:VCALENDAR
VERSION:2.0
PRODID:-//swhealthcare.net//NONSGML kigkonsult.se iCalcreator 2.30.10//
CALSCALE:GREGORIAN
METHOD:PUBLISH
UID:1fbce218-0b20-490e-bd11-bf5c1782d543
X-WR-CALDESC:A fun and exciting evening which includes supper\, silent and 
 live auction and Just Duet (dueling pianos).
X-WR-RELCALID:dab8089a17b75e11bad0c00f680f8399
X-WR-TIMEZONE:America/Chicago
BEGIN:VTIMEZONE
TZID:America/Chicago
BEGIN:STANDARD
TZNAME:CST
DTSTART:20141102T020000
TZOFFSETFROM:-0500
TZOFFSETTO:-0600
RDATE:20151101T020000
END:STANDARD
BEGIN:DAYLIGHT
TZNAME:CDT
DTSTART:20140309T020000
TZOFFSETFROM:-0600
TZOFFSETTO:-0500
RDATE:20150308T020000
RDATE:20160313T020000
END:DAYLIGHT
END:VTIMEZONE
BEGIN:VEVENT
UID:76c5451e-3770-440b-aa63-531079480a53
DTSTAMP:20260423T194011Z
DESCRIPTION:A fun and exciting evening which includes supper\, silent and l
 ive auction and Just Duet (dueling pianos).
DTSTART;TZID=America/Chicago:20150228T173000
DTEND;TZID=America/Chicago:20150228T233000
LOCATION:Four Seasons
SUMMARY:Celebrity Waiter
END:VEVENT
END:VCALENDAR
