BEGIN:VCALENDAR
VERSION:2.0
PRODID:-//swhealthcare.net//NONSGML kigkonsult.se iCalcreator 2.30.10//
CALSCALE:GREGORIAN
METHOD:PUBLISH
UID:c0e18608-c3e9-4f94-90ea-722f311ed941
X-WR-CALDESC:Don't forget to change your clocks!
X-WR-RELCALID:75eaaf9e90bb1cd4786b849722fe7d3b
X-WR-TIMEZONE:America/Chicago
BEGIN:VTIMEZONE
TZID:America/Chicago
BEGIN:STANDARD
TZNAME:CST
DTSTART:20141102T020000
TZOFFSETFROM:-0500
TZOFFSETTO:-0600
RDATE:20151101T020000
END:STANDARD
BEGIN:DAYLIGHT
TZNAME:CDT
DTSTART:20140309T020000
TZOFFSETFROM:-0600
TZOFFSETTO:-0500
RDATE:20150308T020000
RDATE:20160313T020000
END:DAYLIGHT
END:VTIMEZONE
BEGIN:VEVENT
UID:4202d4aa-3a65-4497-812a-1d8e842601b2
DTSTAMP:20260423T181523Z
DESCRIPTION:Don't forget to change your clocks!
DTSTART;TZID=America/Chicago:20150308T000000
DTEND;TZID=America/Chicago:20150308T005900
LOCATION:
SUMMARY:Daylight Savings Time
END:VEVENT
END:VCALENDAR
