BEGIN:VCALENDAR
VERSION:2.0
PRODID:-//swhealthcare.net//NONSGML kigkonsult.se iCalcreator 2.30.10//
CALSCALE:GREGORIAN
METHOD:PUBLISH
UID:1bd1ba44-1c40-4dd1-93d0-edf318e401a2
X-WR-CALDESC:Dr. Arnold\, Obstetrics/Gynecology will be at Southwest Medica
 l Clinic to see patients. Call 523-3226 to make an appointment.
X-WR-RELCALID:74bba408b33d7bf03f5297e1be338db0
X-WR-TIMEZONE:America/Chicago
BEGIN:VTIMEZONE
TZID:America/Chicago
BEGIN:STANDARD
TZNAME:CST
DTSTART:20141102T020000
TZOFFSETFROM:-0500
TZOFFSETTO:-0600
RDATE:20151101T020000
END:STANDARD
BEGIN:DAYLIGHT
TZNAME:CDT
DTSTART:20150308T020000
TZOFFSETFROM:-0600
TZOFFSETTO:-0500
RDATE:20160313T020000
END:DAYLIGHT
END:VTIMEZONE
BEGIN:VEVENT
UID:d1a3c983-9746-4d3b-ae23-b57ee7e77893
DTSTAMP:20260423T181614Z
DESCRIPTION:Dr. Arnold\, Obstetrics/Gynecology will be at Southwest Medical
  Clinic to see patients. Call 523-3226 to make an appointment.
DTSTART;TZID=America/Chicago:20150318T000000
DTEND;TZID=America/Chicago:20150318T075900
LOCATION:Southwest Medical Clinic
SUMMARY:Dr. Arnold\, OBGYN in Bowman
END:VEVENT
END:VCALENDAR
