BEGIN:VCALENDAR
VERSION:2.0
PRODID:-//swhealthcare.net//NONSGML kigkonsult.se iCalcreator 2.30.10//
CALSCALE:GREGORIAN
METHOD:PUBLISH
UID:0c6ef372-ab44-45d2-966e-41cf5c097ad5
X-WR-CALDESC:
X-WR-RELCALID:9cb72fc5664d823bffc6b7d7cd4b9c9f
X-WR-TIMEZONE:America/Chicago
BEGIN:VTIMEZONE
TZID:America/Chicago
BEGIN:STANDARD
TZNAME:CST
DTSTART:20141102T020000
TZOFFSETFROM:-0500
TZOFFSETTO:-0600
RDATE:20151101T020000
END:STANDARD
BEGIN:DAYLIGHT
TZNAME:CDT
DTSTART:20150308T020000
TZOFFSETFROM:-0600
TZOFFSETTO:-0500
RDATE:20160313T020000
END:DAYLIGHT
END:VTIMEZONE
BEGIN:VEVENT
UID:ede60256-5b86-4bd1-91c9-32af1a7bde98
DTSTAMP:20260423T165250Z
DESCRIPTION:
DTSTART;TZID=America/Chicago:20150407T190000
DTEND;TZID=America/Chicago:20150407T200000
LOCATION:Bowman Lutheran Church
SUMMARY:SWHS Annual Meeting
END:VEVENT
END:VCALENDAR
