BEGIN:VCALENDAR
VERSION:2.0
PRODID:-//swhealthcare.net//NONSGML kigkonsult.se iCalcreator 2.30.10//
CALSCALE:GREGORIAN
METHOD:PUBLISH
UID:77c27a98-8f30-45c4-a91c-98fbe6d308b4
X-WR-CALDESC:Come meeting our Clinic staff and enter into a free drawing!\n
 \nThis month theme is Spring Fever!
X-WR-RELCALID:a3c0d1ff710d2314cd1a13bda066380d
X-WR-TIMEZONE:America/Chicago
BEGIN:VTIMEZONE
TZID:America/Chicago
BEGIN:STANDARD
TZNAME:CST
DTSTART:20141102T020000
TZOFFSETFROM:-0500
TZOFFSETTO:-0600
RDATE:20151101T020000
END:STANDARD
BEGIN:DAYLIGHT
TZNAME:CDT
DTSTART:20150308T020000
TZOFFSETFROM:-0600
TZOFFSETTO:-0500
RDATE:20160313T020000
END:DAYLIGHT
END:VTIMEZONE
BEGIN:VEVENT
UID:b3c32131-3796-437b-97ee-ad0ec8ba101b
DTSTAMP:20260423T165418Z
DESCRIPTION:Come meeting our Clinic staff and enter into a free drawing!\n
 \nThis month theme is Spring Fever!
DTSTART;TZID=America/Chicago:20150417T000000
DTEND;TZID=America/Chicago:20150417T235900
LOCATION:Southwest Medical Clinic
SUMMARY:Clinic Meet and Greet
END:VEVENT
END:VCALENDAR
