BEGIN:VCALENDAR
VERSION:2.0
PRODID:-//swhealthcare.net//NONSGML kigkonsult.se iCalcreator 2.30.10//
CALSCALE:GREGORIAN
METHOD:PUBLISH
UID:a295450b-4763-4488-a115-be5bf566674d
X-WR-CALDESC:Dr. Lanchbury will be seeing patients at our Dickinson Locatio
 n. \n\nDickinson Clinic\nTherapy Solutions\n448 21st Street West\, Suite D
 1\nDickinson\, ND 58601
X-WR-RELCALID:ef537d230344c5eac1f39ac3eabb9fd1
X-WR-TIMEZONE:America/Chicago
BEGIN:VTIMEZONE
TZID:America/Chicago
BEGIN:STANDARD
TZNAME:CST
DTSTART:20141102T020000
TZOFFSETFROM:-0500
TZOFFSETTO:-0600
RDATE:20151101T020000
END:STANDARD
BEGIN:DAYLIGHT
TZNAME:CDT
DTSTART:20150308T020000
TZOFFSETFROM:-0600
TZOFFSETTO:-0500
RDATE:20160313T020000
END:DAYLIGHT
END:VTIMEZONE
BEGIN:VEVENT
UID:9543d799-ae3e-4832-a7bf-4503a77c5bdc
DTSTAMP:20260423T165330Z
DESCRIPTION:Dr. Lanchbury will be seeing patients at our Dickinson Location
 . \n\nDickinson Clinic\nTherapy Solutions\n448 21st Street West\, Suite D1
 \nDickinson\, ND 58601
DTSTART;TZID=America/Chicago:20150428T000000
DTEND;TZID=America/Chicago:20150428T065900
LOCATION:
SUMMARY:Dr. Lanchbury in Dickinson
END:VEVENT
END:VCALENDAR
