BEGIN:VCALENDAR
VERSION:2.0
PRODID:-//swhealthcare.net//NONSGML kigkonsult.se iCalcreator 2.30.10//
CALSCALE:GREGORIAN
METHOD:PUBLISH
UID:704c3b5b-bda6-43f0-bf3b-6128ef45a847
X-WR-CALDESC:A big thank you to all the wonderful mothers out there!
X-WR-RELCALID:2c0c944884c1bf7db012c33ecd5340b8
X-WR-TIMEZONE:America/Chicago
BEGIN:VTIMEZONE
TZID:America/Chicago
BEGIN:STANDARD
TZNAME:CST
DTSTART:20141102T020000
TZOFFSETFROM:-0500
TZOFFSETTO:-0600
RDATE:20151101T020000
RDATE:20161106T020000
END:STANDARD
BEGIN:DAYLIGHT
TZNAME:CDT
DTSTART:20150308T020000
TZOFFSETFROM:-0600
TZOFFSETTO:-0500
RDATE:20160313T020000
END:DAYLIGHT
END:VTIMEZONE
BEGIN:VEVENT
UID:13183cc1-1573-45c4-bdd1-42cb579acabb
DTSTAMP:20260423T181823Z
DESCRIPTION:A big thank you to all the wonderful mothers out there!
DTSTART;TZID=America/Chicago:20150510T000000
DTEND;TZID=America/Chicago:20150510T235900
LOCATION:
SUMMARY:Happy Mother's Day!
END:VEVENT
END:VCALENDAR
