BEGIN:VCALENDAR
VERSION:2.0
PRODID:-//swhealthcare.net//NONSGML kigkonsult.se iCalcreator 2.30.10//
CALSCALE:GREGORIAN
METHOD:PUBLISH
UID:4524872a-6a31-4481-b9c0-488704d3d8ea
X-WR-CALDESC:Please help us celebrate National Hospital and Nursing Home We
 ek!
X-WR-RELCALID:b14a0b8d08e0c9bf767c1e09d0fb2fcb
X-WR-TIMEZONE:America/Chicago
BEGIN:VTIMEZONE
TZID:America/Chicago
BEGIN:STANDARD
TZNAME:CST
DTSTART:20141102T020000
TZOFFSETFROM:-0500
TZOFFSETTO:-0600
RDATE:20151101T020000
RDATE:20161106T020000
END:STANDARD
BEGIN:DAYLIGHT
TZNAME:CDT
DTSTART:20150308T020000
TZOFFSETFROM:-0600
TZOFFSETTO:-0500
RDATE:20160313T020000
END:DAYLIGHT
END:VTIMEZONE
BEGIN:VEVENT
UID:1d2166ad-e32a-46b3-a9f4-8c507a07772b
DTSTAMP:20260423T182512Z
DESCRIPTION:Please help us celebrate National Hospital and Nursing Home Wee
 k!
DTSTART;TZID=America/Chicago:20150510T000000
DTEND;TZID=America/Chicago:20150510T235900
LOCATION:
SUMMARY:National Hospital and Nursing Home Week
END:VEVENT
END:VCALENDAR
