BEGIN:VCALENDAR
VERSION:2.0
PRODID:-//swhealthcare.net//NONSGML kigkonsult.se iCalcreator 2.30.10//
CALSCALE:GREGORIAN
METHOD:PUBLISH
UID:2afd1e10-3f7f-4771-a197-c7d3294e2bd8
X-WR-CALDESC:Dr. Mahr will be visiting patients here in Bowman. Please call
  Southwest Medical Clinic with any questions 701-523-3226. Dr. Nicholas Ma
 hr is an interventional cardiologist at the St. Alexius heart & Lung Clini
 c. After receiving his medical degree from St. George's University in St. 
 George\, Grenada\, Dr. Mahr finished a residency in internal medicine at H
 ackensack Medical Center\, Hackensack\, N.J. He completed a fellowship in 
 critical care at Mount Sinai Medical Center\, New York\, N.Y.\, and a fell
 owship in cardiology at Mount Sinai Medical Center of Greater Miami\, Miam
 i Beach\, Fla. In addition\, he completed fellowships in noninvasive cardi
 ology and interventional cardiology at Hartford Hospital\, Hartford\, Conn
 . Dr. Mahr is board certified in internal medicine by the American Board o
 f Internal Medicine and board certified in nuclear cardiology by the Ameri
 can Society of Nuclear Cardiology. He is board eligible in general and int
 erventional cardiology as well as critical care medicine. Dr. Mahr is a me
 mber of the American College of Cardiology\, American Society of Nuclear C
 ardiology\, American College of Physicians Society of Critical Care Medici
 ne and American Society of Echocardiography.
X-WR-RELCALID:b9404a98d7250d7f8d4c626fb6b7bf02
X-WR-TIMEZONE:America/Chicago
BEGIN:VTIMEZONE
TZID:America/Chicago
BEGIN:STANDARD
TZNAME:CST
DTSTART:20141102T020000
TZOFFSETFROM:-0500
TZOFFSETTO:-0600
RDATE:20151101T020000
RDATE:20161106T020000
END:STANDARD
BEGIN:DAYLIGHT
TZNAME:CDT
DTSTART:20150308T020000
TZOFFSETFROM:-0600
TZOFFSETTO:-0500
RDATE:20160313T020000
END:DAYLIGHT
END:VTIMEZONE
BEGIN:VEVENT
UID:ec22f62a-becd-40f8-b7b8-9dffb7aedae1
DTSTAMP:20260423T182613Z
DESCRIPTION:Dr. Mahr will be visiting patients here in Bowman. Please call 
 Southwest Medical Clinic with any questions 701-523-3226. Dr. Nicholas Mah
 r is an interventional cardiologist at the St. Alexius heart & Lung Clinic
 . After receiving his medical degree from St. George's University in St. G
 eorge\, Grenada\, Dr. Mahr finished a residency in internal medicine at Ha
 ckensack Medical Center\, Hackensack\, N.J. He completed a fellowship in c
 ritical care at Mount Sinai Medical Center\, New York\, N.Y.\, and a fello
 wship in cardiology at Mount Sinai Medical Center of Greater Miami\, Miami
  Beach\, Fla. In addition\, he completed fellowships in noninvasive cardio
 logy and interventional cardiology at Hartford Hospital\, Hartford\, Conn.
  Dr. Mahr is board certified in internal medicine by the American Board of
  Internal Medicine and board certified in nuclear cardiology by the Americ
 an Society of Nuclear Cardiology. He is board eligible in general and inte
 rventional cardiology as well as critical care medicine. Dr. Mahr is a mem
 ber of the American College of Cardiology\, American Society of Nuclear Ca
 rdiology\, American College of Physicians Society of Critical Care Medicin
 e and American Society of Echocardiography.
DTSTART;TZID=America/Chicago:20150514T000000
DTEND;TZID=America/Chicago:20150514T085900
LOCATION:Southwest Medical Clinic
SUMMARY:Nicholas Mahr M.D. Cardiologist will be in Bowman
END:VEVENT
END:VCALENDAR
