BEGIN:VCALENDAR
VERSION:2.0
PRODID:-//swhealthcare.net//NONSGML kigkonsult.se iCalcreator 2.30.10//
CALSCALE:GREGORIAN
METHOD:PUBLISH
UID:3a782ea2-d32b-4793-9dd0-cd8ce1881078
X-WR-CALDESC:Please help us celebrate National EMS Week!
X-WR-RELCALID:de250ab728f7f668a20b0ff7f86e45ab
X-WR-TIMEZONE:America/Chicago
BEGIN:VTIMEZONE
TZID:America/Chicago
BEGIN:STANDARD
TZNAME:CST
DTSTART:20141102T020000
TZOFFSETFROM:-0500
TZOFFSETTO:-0600
RDATE:20151101T020000
RDATE:20161106T020000
END:STANDARD
BEGIN:DAYLIGHT
TZNAME:CDT
DTSTART:20150308T020000
TZOFFSETFROM:-0600
TZOFFSETTO:-0500
RDATE:20160313T020000
END:DAYLIGHT
END:VTIMEZONE
BEGIN:VEVENT
UID:46a6c9c6-921c-4f82-9dd0-3373b0d97d32
DTSTAMP:20260423T181523Z
DESCRIPTION:Please help us celebrate National EMS Week!
DTSTART;TZID=America/Chicago:20150517T000000
DTEND;TZID=America/Chicago:20150517T235900
LOCATION:
SUMMARY:National EMS Week
END:VEVENT
END:VCALENDAR
