BEGIN:VCALENDAR
VERSION:2.0
PRODID:-//swhealthcare.net//NONSGML kigkonsult.se iCalcreator 2.30.10//
CALSCALE:GREGORIAN
METHOD:PUBLISH
UID:07d1eab7-fe62-4ef0-97ea-87dc75c616d8
X-WR-CALDESC:Southwest Medical Clinic will be closed on Memorial Day\, Mond
 ay\, May 25\, 2015
X-WR-RELCALID:a119d2931b4cdb561373f6ff17c7a863
X-WR-TIMEZONE:America/Chicago
BEGIN:VTIMEZONE
TZID:America/Chicago
BEGIN:STANDARD
TZNAME:CST
DTSTART:20141102T020000
TZOFFSETFROM:-0500
TZOFFSETTO:-0600
RDATE:20151101T020000
RDATE:20161106T020000
END:STANDARD
BEGIN:DAYLIGHT
TZNAME:CDT
DTSTART:20150308T020000
TZOFFSETFROM:-0600
TZOFFSETTO:-0500
RDATE:20160313T020000
END:DAYLIGHT
END:VTIMEZONE
BEGIN:VEVENT
UID:8a01ce4a-5c05-43cf-833c-dcb71efa25d0
DTSTAMP:20260423T183009Z
DESCRIPTION:Southwest Medical Clinic will be closed on Memorial Day\, Monda
 y\, May 25\, 2015
DTSTART;TZID=America/Chicago:20150525T000000
DTEND;TZID=America/Chicago:20150525T235900
LOCATION:
SUMMARY:Memorial Day - Clinic Closed
END:VEVENT
END:VCALENDAR
