BEGIN:VCALENDAR
VERSION:2.0
PRODID:-//swhealthcare.net//NONSGML kigkonsult.se iCalcreator 2.30.10//
CALSCALE:GREGORIAN
METHOD:PUBLISH
UID:48650bbe-dd5c-4db0-a332-f6f050f696eb
X-WR-CALDESC:Dr. Lanchbury will be seeing patients at our Dickinson Locatio
 n. \n\nDickinson Clinic\nTherapy Solutions\n448 21st Street West\, Suite D
 1\nDickinson\, ND 58601
X-WR-RELCALID:4bd4ac0748c67db553e6f98e5e929c6f
X-WR-TIMEZONE:America/Chicago
BEGIN:VTIMEZONE
TZID:America/Chicago
BEGIN:STANDARD
TZNAME:CST
DTSTART:20141102T020000
TZOFFSETFROM:-0500
TZOFFSETTO:-0600
RDATE:20151101T020000
RDATE:20161106T020000
END:STANDARD
BEGIN:DAYLIGHT
TZNAME:CDT
DTSTART:20150308T020000
TZOFFSETFROM:-0600
TZOFFSETTO:-0500
RDATE:20160313T020000
END:DAYLIGHT
END:VTIMEZONE
BEGIN:VEVENT
UID:7e6eebf4-c048-46e9-9ae5-dfdd711b63fe
DTSTAMP:20260423T194134Z
DESCRIPTION:Dr. Lanchbury will be seeing patients at our Dickinson Location
 . \n\nDickinson Clinic\nTherapy Solutions\n448 21st Street West\, Suite D1
 \nDickinson\, ND 58601
DTSTART;TZID=America/Chicago:20150609T000000
DTEND;TZID=America/Chicago:20150609T065900
LOCATION:
SUMMARY:Dr. Lanchbury in Dickinson
END:VEVENT
END:VCALENDAR
