BEGIN:VCALENDAR
VERSION:2.0
PRODID:-//swhealthcare.net//NONSGML kigkonsult.se iCalcreator 2.30.10//
CALSCALE:GREGORIAN
METHOD:PUBLISH
UID:34f815d3-031e-47a7-bd26-699ee38ead66
X-WR-CALDESC:Please help us celebrate National Nursing Assistants Week.  CN
 A's are the backbone of the healthcare and we appreciate all they do for u
 s!
X-WR-RELCALID:6f3461aa6625aa90eb5036bdff3031f6
X-WR-TIMEZONE:America/Chicago
BEGIN:VTIMEZONE
TZID:America/Chicago
BEGIN:STANDARD
TZNAME:CST
DTSTART:20141102T020000
TZOFFSETFROM:-0500
TZOFFSETTO:-0600
RDATE:20151101T020000
RDATE:20161106T020000
END:STANDARD
BEGIN:DAYLIGHT
TZNAME:CDT
DTSTART:20150308T020000
TZOFFSETFROM:-0600
TZOFFSETTO:-0500
RDATE:20160313T020000
END:DAYLIGHT
END:VTIMEZONE
BEGIN:VEVENT
UID:63bb69d5-8666-44a9-96bf-364463db4f36
DTSTAMP:20260423T194159Z
DESCRIPTION:Please help us celebrate National Nursing Assistants Week.  CNA
 's are the backbone of the healthcare and we appreciate all they do for us
 !
DTSTART;TZID=America/Chicago:20150611T000000
DTEND;TZID=America/Chicago:20150611T235900
LOCATION:
SUMMARY:National Nursing Assistants Week
END:VEVENT
END:VCALENDAR
