BEGIN:VCALENDAR
VERSION:2.0
PRODID:-//swhealthcare.net//NONSGML kigkonsult.se iCalcreator 2.30.10//
CALSCALE:GREGORIAN
METHOD:PUBLISH
UID:14bc88e4-a913-45db-9cfe-0f576ef7421e
X-WR-CALDESC:Patty Gilbert will be at the Rodeo to take care of anyone who 
 gets injured.
X-WR-RELCALID:cb9836bc54e909651fa72d0ce33373aa
X-WR-TIMEZONE:America/Chicago
BEGIN:VTIMEZONE
TZID:America/Chicago
BEGIN:STANDARD
TZNAME:CST
DTSTART:20141102T020000
TZOFFSETFROM:-0500
TZOFFSETTO:-0600
RDATE:20151101T020000
RDATE:20161106T020000
END:STANDARD
BEGIN:DAYLIGHT
TZNAME:CDT
DTSTART:20150308T020000
TZOFFSETFROM:-0600
TZOFFSETTO:-0500
RDATE:20160313T020000
END:DAYLIGHT
END:VTIMEZONE
BEGIN:VEVENT
UID:088dff6d-cbb2-4e33-a5f9-f55d27799874
DTSTAMP:20260423T193457Z
DESCRIPTION:Patty Gilbert will be at the Rodeo to take care of anyone who g
 ets injured.
DTSTART;TZID=America/Chicago:20150612T000000
DTEND;TZID=America/Chicago:20150613T235900
LOCATION:
SUMMARY:ND High School Rodeo
END:VEVENT
END:VCALENDAR
