BEGIN:VCALENDAR
VERSION:2.0
PRODID:-//swhealthcare.net//NONSGML kigkonsult.se iCalcreator 2.30.10//
CALSCALE:GREGORIAN
METHOD:PUBLISH
UID:324365db-cc0d-4b54-9668-e63ac4842eba
X-WR-CALDESC:Come meeting our Clinic staff and enter into a free drawing!\n
 \nThis month theme is Parents Day!
X-WR-RELCALID:8972ded0c9926a758f51bfb90d35a07a
X-WR-TIMEZONE:America/Chicago
BEGIN:VTIMEZONE
TZID:America/Chicago
BEGIN:STANDARD
TZNAME:CST
DTSTART:20141102T020000
TZOFFSETFROM:-0500
TZOFFSETTO:-0600
RDATE:20151101T020000
RDATE:20161106T020000
END:STANDARD
BEGIN:DAYLIGHT
TZNAME:CDT
DTSTART:20150308T020000
TZOFFSETFROM:-0600
TZOFFSETTO:-0500
RDATE:20160313T020000
END:DAYLIGHT
END:VTIMEZONE
BEGIN:VEVENT
UID:9fa11780-62d0-4dfd-87dc-4cc1f0509501
DTSTAMP:20260423T194322Z
DESCRIPTION:Come meeting our Clinic staff and enter into a free drawing!\n
 \nThis month theme is Parents Day!
DTSTART;TZID=America/Chicago:20150619T000000
DTEND;TZID=America/Chicago:20150619T015900
LOCATION:Southwest Medical Clinic
SUMMARY:Clinic Meet and Greet
END:VEVENT
END:VCALENDAR
