BEGIN:VCALENDAR
VERSION:2.0
PRODID:-//swhealthcare.net//NONSGML kigkonsult.se iCalcreator 2.30.10//
CALSCALE:GREGORIAN
METHOD:PUBLISH
UID:57e575cd-286d-4258-898c-9abe93bb4160
X-WR-CALDESC:All of July and August\, Southwest Healthcare Services will be
  providing sport physicals for $20.
X-WR-RELCALID:77b6e1480f110d8291c32bfcb691185d
X-WR-TIMEZONE:America/Chicago
BEGIN:VTIMEZONE
TZID:America/Chicago
BEGIN:STANDARD
TZNAME:CST
DTSTART:20141102T020000
TZOFFSETFROM:-0500
TZOFFSETTO:-0600
RDATE:20151101T020000
RDATE:20161106T020000
END:STANDARD
BEGIN:DAYLIGHT
TZNAME:CDT
DTSTART:20150308T020000
TZOFFSETFROM:-0600
TZOFFSETTO:-0500
RDATE:20160313T020000
END:DAYLIGHT
END:VTIMEZONE
BEGIN:VEVENT
UID:437ac187-6779-41b7-941a-5fcaf76b7ab5
DTSTAMP:20260423T210521Z
DESCRIPTION:All of July and August\, Southwest Healthcare Services will be 
 providing sport physicals for $20.
DTSTART;TZID=America/Chicago:20150701T000000
DTEND;TZID=America/Chicago:20150701T235900
LOCATION:Southwest Medical Clinic
SUMMARY:Sports Physicals $20 all of July!
END:VEVENT
END:VCALENDAR
