BEGIN:VCALENDAR
VERSION:2.0
PRODID:-//swhealthcare.net//NONSGML kigkonsult.se iCalcreator 2.30.10//
CALSCALE:GREGORIAN
METHOD:PUBLISH
UID:caba0578-c457-4f62-84fa-ab27e5eb4c01
X-WR-CALDESC:Southwest Medical Clinic will be closed on July 3rd.
X-WR-RELCALID:fc1512c3ad794a493dea0c023df31c37
X-WR-TIMEZONE:America/Chicago
BEGIN:VTIMEZONE
TZID:America/Chicago
BEGIN:STANDARD
TZNAME:CST
DTSTART:20141102T020000
TZOFFSETFROM:-0500
TZOFFSETTO:-0600
RDATE:20151101T020000
RDATE:20161106T020000
END:STANDARD
BEGIN:DAYLIGHT
TZNAME:CDT
DTSTART:20150308T020000
TZOFFSETFROM:-0600
TZOFFSETTO:-0500
RDATE:20160313T020000
END:DAYLIGHT
END:VTIMEZONE
BEGIN:VEVENT
UID:a5ebeae6-5557-4aab-844a-919b3ba99fb7
DTSTAMP:20260423T205925Z
DESCRIPTION:Southwest Medical Clinic will be closed on July 3rd.
DTSTART;TZID=America/Chicago:20150703T000000
DTEND;TZID=America/Chicago:20150703T235900
LOCATION:Southwest Medical Clinic
SUMMARY:Clinic is Closed
END:VEVENT
END:VCALENDAR
