BEGIN:VCALENDAR
VERSION:2.0
PRODID:-//swhealthcare.net//NONSGML kigkonsult.se iCalcreator 2.30.10//
CALSCALE:GREGORIAN
METHOD:PUBLISH
UID:fd317323-8861-41e1-b57e-4dfdaf1ee11b
X-WR-CALDESC:
X-WR-RELCALID:52467916cc68deaa04aea0628eb9fa38
X-WR-TIMEZONE:America/Chicago
BEGIN:VTIMEZONE
TZID:America/Chicago
BEGIN:STANDARD
TZNAME:CST
DTSTART:20141102T020000
TZOFFSETFROM:-0500
TZOFFSETTO:-0600
RDATE:20151101T020000
RDATE:20161106T020000
END:STANDARD
BEGIN:DAYLIGHT
TZNAME:CDT
DTSTART:20150308T020000
TZOFFSETFROM:-0600
TZOFFSETTO:-0500
RDATE:20160313T020000
END:DAYLIGHT
END:VTIMEZONE
BEGIN:VEVENT
UID:12cf5493-c4c4-4e65-899e-1a98a1e23b17
DTSTAMP:20260423T210337Z
DESCRIPTION:
DTSTART;TZID=America/Chicago:20150704T000000
DTEND;TZID=America/Chicago:20150704T235900
LOCATION:
SUMMARY:Happy Fourth of July!
END:VEVENT
END:VCALENDAR
