BEGIN:VCALENDAR
VERSION:2.0
PRODID:-//swhealthcare.net//NONSGML kigkonsult.se iCalcreator 2.30.10//
CALSCALE:GREGORIAN
METHOD:PUBLISH
UID:614cc728-43df-4bb9-a109-8b4bc4e14c08
X-WR-CALDESC:Come meeting our Clinic staff and enter into a free drawing!\n
 \nThis month theme is Patriotic!
X-WR-RELCALID:7d2903f23450d1a2dec831591239d6a8
X-WR-TIMEZONE:America/Chicago
BEGIN:VTIMEZONE
TZID:America/Chicago
BEGIN:STANDARD
TZNAME:CST
DTSTART:20141102T020000
TZOFFSETFROM:-0500
TZOFFSETTO:-0600
RDATE:20151101T020000
RDATE:20161106T020000
END:STANDARD
BEGIN:DAYLIGHT
TZNAME:CDT
DTSTART:20150308T020000
TZOFFSETFROM:-0600
TZOFFSETTO:-0500
RDATE:20160313T020000
END:DAYLIGHT
END:VTIMEZONE
BEGIN:VEVENT
UID:a5571798-f868-44b5-be61-4ea3e8c6fed1
DTSTAMP:20260423T210343Z
DESCRIPTION:Come meeting our Clinic staff and enter into a free drawing!\n
 \nThis month theme is Patriotic!
DTSTART;TZID=America/Chicago:20150710T000000
DTEND;TZID=America/Chicago:20150710T025900
LOCATION:Southwest Medical Clinic
SUMMARY:Clinic Meet and Greet
END:VEVENT
END:VCALENDAR
