BEGIN:VCALENDAR
VERSION:2.0
PRODID:-//swhealthcare.net//NONSGML kigkonsult.se iCalcreator 2.30.10//
CALSCALE:GREGORIAN
METHOD:PUBLISH
UID:c65f24f2-142f-4ce7-a8a4-b8c0d91578c3
X-WR-CALDESC:Thursday\, July 16\, Southwest Healthcare Services will be pro
 viding a free skin cancer screening.
X-WR-RELCALID:eea7012106442681ab038de650a83325
X-WR-TIMEZONE:America/Chicago
BEGIN:VTIMEZONE
TZID:America/Chicago
BEGIN:STANDARD
TZNAME:CST
DTSTART:20141102T020000
TZOFFSETFROM:-0500
TZOFFSETTO:-0600
RDATE:20151101T020000
RDATE:20161106T020000
END:STANDARD
BEGIN:DAYLIGHT
TZNAME:CDT
DTSTART:20150308T020000
TZOFFSETFROM:-0600
TZOFFSETTO:-0500
RDATE:20160313T020000
END:DAYLIGHT
END:VTIMEZONE
BEGIN:VEVENT
UID:eba0e3f2-7fb3-4819-990e-7388facf5810
DTSTAMP:20260423T210042Z
DESCRIPTION:Thursday\, July 16\, Southwest Healthcare Services will be prov
 iding a free skin cancer screening.
DTSTART;TZID=America/Chicago:20150716T000000
DTEND;TZID=America/Chicago:20150716T005900
LOCATION:Southwest Medical Clinic
SUMMARY:Free Skin Cancer Screening
END:VEVENT
END:VCALENDAR
