BEGIN:VCALENDAR
VERSION:2.0
PRODID:-//swhealthcare.net//NONSGML kigkonsult.se iCalcreator 2.30.10//
CALSCALE:GREGORIAN
METHOD:PUBLISH
UID:79bab87a-7400-46ac-88d8-fd616d0e6f9c
X-WR-CALDESC:All of July and August\, Southwest Healthcare Services will be
  providing sport physicals for $20.
X-WR-RELCALID:cf1aeaad2772cbe0830a445c057f780a
X-WR-TIMEZONE:America/Chicago
BEGIN:VTIMEZONE
TZID:America/Chicago
BEGIN:STANDARD
TZNAME:CST
DTSTART:20141102T020000
TZOFFSETFROM:-0500
TZOFFSETTO:-0600
RDATE:20151101T020000
RDATE:20161106T020000
END:STANDARD
BEGIN:DAYLIGHT
TZNAME:CDT
DTSTART:20150308T020000
TZOFFSETFROM:-0600
TZOFFSETTO:-0500
RDATE:20160313T020000
END:DAYLIGHT
END:VTIMEZONE
BEGIN:VEVENT
UID:ddd64ed3-ebec-4bbb-b653-73efbb30c934
DTSTAMP:20260423T224101Z
DESCRIPTION:All of July and August\, Southwest Healthcare Services will be 
 providing sport physicals for $20.
DTSTART;TZID=America/Chicago:20150801T000000
DTEND;TZID=America/Chicago:20150801T005900
LOCATION:Southwest Medical Clinic
SUMMARY:Sports Physicals $20 all of August!
END:VEVENT
END:VCALENDAR
